BEGIN:VCALENDAR
VERSION:2.0
PRODID:-//Tukios.com/
BEGIN:VEVENT
UID:825f2e23-9528-445c-a09f-326c40a9de0b@www.walkersfuneralservice.com
DTSTAMP:20260420T203803Z
DTSTART:20260627T180000Z
DTEND:20260627T190000Z
SUMMARY:Memorial Service
DESCRIPTION:
URL:https://www.walkersfuneralservice.com/obituaries/william-price-furr
LOCATION:St. Mary of the Hills Episcopal Church 140 Chestnut Dr  Blowing 
	Rock NC 28605
GEO:36.130301;-81.6780705
END:VEVENT
END:VCALENDAR