BEGIN:VCALENDAR
VERSION:2.0
PRODID:-//Tukios.com/
BEGIN:VEVENT
UID:b52625bb-1e92-462e-845f-3ce80b566195@www.walkersfuneralservice.com
DTSTAMP:20260422T090333Z
DTSTART:20260417T150000Z
DTEND:20260417T160000Z
SUMMARY:Mass
DESCRIPTION:
URL:https://www.walkersfuneralservice.com/obituaries/ann-banes
LOCATION: 904 Carmichael Street  Chapel Hill NC 27514
GEO:35.9018886;-79.0332507
END:VEVENT
END:VCALENDAR